BEGIN:VCALENDAR
VERSION:2.0
PRODID:-//kellogg.northwestern.edu///Outlook MIMEDIR//EN
X-WR-CALNAME: All Faculty Events
BEGIN:VEVENT
DTSTAMP:20260424T031928Z
DTSTART:20180516T150000Z
DTEND:20180516T163000Z
SUMMARY:Nick Haslam
X-ALT-DESC;FMTTYPE=text/html:"Concept creep: Our expanding ideas of harm and pathology"
DESCRIPTION:"Concept creep: Our expanding ideas of harm and pathology"
LOCATION:Kellogg Global Hub 5101
SEQUENCE:0
UID:c432b9cb-2063-48e0-86e3-022bf7c52ace
END:VEVENT
END:VCALENDAR
