BEGIN:VCALENDAR
VERSION:2.0
PRODID:-//kellogg.northwestern.edu///Outlook MIMEDIR//EN
X-WR-CALNAME: All Faculty Events
BEGIN:VEVENT
DTSTAMP:20260423T032437Z
DTSTART:20240307T180000Z
DTEND:20240307T184500Z
SUMMARY:Siqi Zheng
X-ALT-DESC;FMTTYPE=text/html:Multicollinearity, interaction effects, and inference in accounting
DESCRIPTION:Multicollinearity, interaction effects, and inference in accounting
LOCATION:Kellogg Global Hub KGH 4302
SEQUENCE:0
UID:c3c0647d-409d-4303-bdc6-8ced0cd05ab4
END:VEVENT
END:VCALENDAR
