BEGIN:VCALENDAR
VERSION:2.0
PRODID:-//kellogg.northwestern.edu///Outlook MIMEDIR//EN
X-WR-CALNAME: All Faculty Events
BEGIN:VEVENT
DTSTAMP:20260421T154826Z
DTSTART:20231101T160000Z
DTEND:20231101T171500Z
SUMMARY:Andreas Kraft
X-ALT-DESC;FMTTYPE=text/html:Behavioral Skimming: Theory and Evidence from Resale Markets
DESCRIPTION:Behavioral Skimming: Theory and Evidence from Resale Markets
LOCATION:Kellogg Global Hub KGH L120
SEQUENCE:0
UID:c25c8e19-5ca1-4d91-8f16-8cc1e8f7c40d
END:VEVENT
END:VCALENDAR
