BEGIN:VCALENDAR
VERSION:2.0
PRODID:-//kellogg.northwestern.edu///Outlook MIMEDIR//EN
X-WR-CALNAME: All Faculty Events
BEGIN:VEVENT
DTSTAMP:20260421T093628Z
DTSTART:20200923T160000Z
DTEND:20200923T171500Z
SUMMARY:Johan Hombert
X-ALT-DESC;FMTTYPE=text/html:"Can Risk Be Shared Across Investor Cohorts? Evidence from a Popular Savings Product"
DESCRIPTION:"Can Risk Be Shared Across Investor Cohorts? Evidence from a Popular Savings Product"
LOCATION:Virtual Event
SEQUENCE:0
UID:c0e748ba-334d-4159-8abe-35de6a4ea762
END:VEVENT
END:VCALENDAR
