BEGIN:VCALENDAR
VERSION:2.0
PRODID:-//kellogg.northwestern.edu///Outlook MIMEDIR//EN
X-WR-CALNAME: All Faculty Events
BEGIN:VEVENT
DTSTAMP:20260424T082637Z
DTSTART:20251029T203000Z
DTEND:20251029T220000Z
SUMMARY:Theory Workshop - Sujoy Mukerji
X-ALT-DESC;FMTTYPE=text/html:Sharing Model Uncertainty
DESCRIPTION:Sharing Model Uncertainty
LOCATION:5101
SEQUENCE:0
UID:c0e239b4-548e-4ea5-9928-3b55f8bcb600
END:VEVENT
END:VCALENDAR
