BEGIN:VCALENDAR
VERSION:2.0
PRODID:-//kellogg.northwestern.edu///Outlook MIMEDIR//EN
X-WR-CALNAME: All Faculty Events
BEGIN:VEVENT
DTSTAMP:20260421T083309Z
DTSTART:20230125T193000Z
DTEND:20230125T210000Z
SUMMARY:Cristóbal Otero
X-ALT-DESC;FMTTYPE=text/html:"Managers and Public Hospital Performance"
DESCRIPTION:"Managers and Public Hospital Performance"
LOCATION:Kellogg Global Hub 4101, virtual option
SEQUENCE:0
UID:c0d3b683-f6f2-4caa-a8e2-ade192c1cf2c
END:VEVENT
END:VCALENDAR
