BEGIN:VCALENDAR
VERSION:2.0
PRODID:-//kellogg.northwestern.edu///Outlook MIMEDIR//EN
X-WR-CALNAME: All Faculty Events
BEGIN:VEVENT
DTSTAMP:20260421T081638Z
DTSTART:20250129T180000Z
DTEND:20250129T190000Z
SUMMARY:Operations Seminar - Alexandre Jacquillat
X-ALT-DESC;FMTTYPE=text/html:Learning to Bid in Multi-Unit Auctions: Applications in Emissions Trading Systems and Beyond
DESCRIPTION:Learning to Bid in Multi-Unit Auctions: Applications in Emissions Trading Systems and Beyond
LOCATION:Kellogg Global Hub 5301
SEQUENCE:0
UID:c074d0ca-6f63-4330-984f-64b8f0ea9d8c
END:VEVENT
END:VCALENDAR
