BEGIN:VCALENDAR
VERSION:2.0
PRODID:-//kellogg.northwestern.edu///Outlook MIMEDIR//EN
X-WR-CALNAME: All Faculty Events
BEGIN:VEVENT
DTSTAMP:20260425T071044Z
DTSTART:20171122T193000Z
DTEND:20171122T210000Z
SUMMARY:Huseyin Yildirim
X-ALT-DESC;FMTTYPE=text/html:Social Pressure, Transparency, and Voting in Committees
DESCRIPTION:Social Pressure, Transparency, and Voting in Committees
LOCATION:Kellogg Global Hub 4302
SEQUENCE:0
UID:c047014b-ce95-4385-84ad-c44ca720ed3a
END:VEVENT
END:VCALENDAR
