BEGIN:VCALENDAR
VERSION:2.0
PRODID:-//kellogg.northwestern.edu///Outlook MIMEDIR//EN
X-WR-CALNAME: All Faculty Events
BEGIN:VEVENT
DTSTAMP:20260421T062624Z
DTSTART:20240521T170500Z
DTEND:20240521T180500Z
SUMMARY:Ben Friedrich
X-ALT-DESC;FMTTYPE=text/html:"Price Discovery in Labor Markets: Why Do Firms Say They Cannot Find Workers?"
DESCRIPTION:"Price Discovery in Labor Markets: Why Do Firms Say They Cannot Find Workers?"
LOCATION:Kellogg Global Hub 4101
SEQUENCE:0
UID:bf749ded-17ae-4c18-b984-1d1124ef6c60
END:VEVENT
END:VCALENDAR
