BEGIN:VCALENDAR
VERSION:2.0
PRODID:-//kellogg.northwestern.edu///Outlook MIMEDIR//EN
X-WR-CALNAME: All Faculty Events
BEGIN:VEVENT
DTSTAMP:20260421T003803Z
DTSTART:20211020T183000Z
DTEND:20211020T194500Z
SUMMARY:Lu Zhang
X-ALT-DESC;FMTTYPE=text/html:"The Economics of Security Analysis"
DESCRIPTION:"The Economics of Security Analysis"
LOCATION:Kellogg Global Hub 5301
SEQUENCE:0
UID:bed0b8ed-298f-42a6-b20c-e305846e50b8
END:VEVENT
END:VCALENDAR
