BEGIN:VCALENDAR
VERSION:2.0
PRODID:-//kellogg.northwestern.edu///Outlook MIMEDIR//EN
X-WR-CALNAME: All Faculty Events
BEGIN:VEVENT
DTSTAMP:20260425T191407Z
DTSTART:20220504T184500Z
DTEND:20220504T200000Z
SUMMARY:Andrea Prat
X-ALT-DESC;FMTTYPE=text/html:"Political Power and Market Power"
DESCRIPTION:"Political Power and Market Power"
LOCATION:Kellogg Global Hub 4101, virtual option
SEQUENCE:0
UID:bccb3795-8633-4d50-a69a-1dd3a0a8ca80
END:VEVENT
END:VCALENDAR
