BEGIN:VCALENDAR
VERSION:2.0
PRODID:-//kellogg.northwestern.edu///Outlook MIMEDIR//EN
X-WR-CALNAME: All Faculty Events
BEGIN:VEVENT
DTSTAMP:20260421T064851Z
DTSTART:20190409T170000Z
DTEND:20190409T180000Z
SUMMARY:Ching Jin
X-ALT-DESC;FMTTYPE=text/html:"An early warning signal for the rise of scientific topics"
DESCRIPTION:"An early warning signal for the rise of scientific topics"
LOCATION:Kellogg Global Hub 2120
SEQUENCE:0
UID:bc880a8a-116e-441a-aa9c-afae47289cd7
END:VEVENT
END:VCALENDAR
