BEGIN:VCALENDAR
VERSION:2.0
PRODID:-//kellogg.northwestern.edu///Outlook MIMEDIR//EN
X-WR-CALNAME: All Faculty Events
BEGIN:VEVENT
DTSTAMP:20260421T095922Z
DTSTART:20241120T213000Z
DTEND:20241120T230000Z
SUMMARY:Theory Workshop - Daniel Chen
X-ALT-DESC;FMTTYPE=text/html:"The Market for Attention"
DESCRIPTION:"The Market for Attention"
LOCATION:Kellogg Global Hub 5101
SEQUENCE:0
UID:bc6a325d-3328-4c36-9dc3-5e4455846443
END:VEVENT
END:VCALENDAR
