BEGIN:VCALENDAR
VERSION:2.0
PRODID:-//kellogg.northwestern.edu///Outlook MIMEDIR//EN
X-WR-CALNAME: All Faculty Events
BEGIN:VEVENT
DTSTAMP:20260421T015103Z
DTSTART:20180411T170000Z
DTEND:20180411T180000Z
SUMMARY:Atalay Atasu
X-ALT-DESC;FMTTYPE=text/html:"Leasing, Modularity, and the Circular Economy"
DESCRIPTION:"Leasing, Modularity, and the Circular Economy"
LOCATION:Kellogg Global Hub 5301
SEQUENCE:0
UID:ba97d144-51f4-4d5d-887a-1928e3cbcf82
END:VEVENT
END:VCALENDAR
