BEGIN:VCALENDAR
VERSION:2.0
PRODID:-//kellogg.northwestern.edu///Outlook MIMEDIR//EN
X-WR-CALNAME: All Faculty Events
BEGIN:VEVENT
DTSTAMP:20260421T064854Z
DTSTART:20181011T200000Z
DTEND:20181011T213000Z
SUMMARY:Alexey Makarin
X-ALT-DESC;FMTTYPE=text/html:Title TBA
DESCRIPTION:Title TBA
LOCATION:Kellogg Global Hub 1410
SEQUENCE:0
UID:ba82bbb2-7c68-4ce6-9fc3-e7b949a76ab4
END:VEVENT
END:VCALENDAR
