BEGIN:VCALENDAR
VERSION:2.0
PRODID:-//kellogg.northwestern.edu///Outlook MIMEDIR//EN
X-WR-CALNAME: All Faculty Events
BEGIN:VEVENT
DTSTAMP:20260423T135606Z
DTSTART:20240411T171500Z
DTEND:20240411T181500Z
SUMMARY:Theory Brown Bag - Phil Reny
X-ALT-DESC;FMTTYPE=text/html:Natural Language Equilibrium: Signaling Games
DESCRIPTION:Natural Language Equilibrium: Signaling Games
LOCATION:Kellogg Global Hub 5301
SEQUENCE:0
UID:b9f172a5-c230-4470-ac27-52cffbbbc185
END:VEVENT
END:VCALENDAR
