BEGIN:VCALENDAR
VERSION:2.0
PRODID:-//kellogg.northwestern.edu///Outlook MIMEDIR//EN
X-WR-CALNAME: All Faculty Events
BEGIN:VEVENT
DTSTAMP:20260424T084104Z
DTSTART:20231108T150000Z
DTEND:20231108T160000Z
SUMMARY:Operations Seminar - Yueyang Liu
X-ALT-DESC;FMTTYPE=text/html:Exploration in Non-Stationary Bandits 
DESCRIPTION:Exploration in Non-Stationary Bandits 
LOCATION:Kellogg Global Hub 4101
SEQUENCE:0
UID:b90599a5-c624-47bf-9a11-072ac27805ef
END:VEVENT
END:VCALENDAR
