BEGIN:VCALENDAR
VERSION:2.0
PRODID:-//kellogg.northwestern.edu///Outlook MIMEDIR//EN
X-WR-CALNAME: All Faculty Events
BEGIN:VEVENT
DTSTAMP:20260421T194319Z
DTSTART:20180920T170000Z
DTEND:20180921T190000Z
SUMMARY:Marketing Camp
X-ALT-DESC;FMTTYPE=text/html:Marketing Camp - By invitation only
DESCRIPTION:Marketing Camp - By invitation only
LOCATION:Kellogg Global Hub KGH 5101
SEQUENCE:0
UID:b7d5192b-59b8-42cb-ae01-ebb3e35767ef
END:VEVENT
END:VCALENDAR
