BEGIN:VCALENDAR
VERSION:2.0
PRODID:-//kellogg.northwestern.edu///Outlook MIMEDIR//EN
X-WR-CALNAME: All Faculty Events
BEGIN:VEVENT
DTSTAMP:20260425T052618Z
DTSTART:20200513T184500Z
DTEND:20200513T200000Z
SUMMARY:Yona Rubinstein
X-ALT-DESC;FMTTYPE=text/html:
DESCRIPTION:
LOCATION:Kellogg Global Hub 4101
SEQUENCE:0
UID:b5b45c13-ffa6-4d2a-ae00-edfbd1cd8efe
END:VEVENT
END:VCALENDAR
