BEGIN:VCALENDAR
VERSION:2.0
PRODID:-//kellogg.northwestern.edu///Outlook MIMEDIR//EN
X-WR-CALNAME: All Faculty Events
BEGIN:VEVENT
DTSTAMP:20260421T114005Z
DTSTART:20250116T193000Z
DTEND:20250116T210000Z
SUMMARY:Kadeem Noray
X-ALT-DESC;FMTTYPE=text/html:“Selecting for Diverse Talent: Theory and Evidence” (with Neil Natarajan)
DESCRIPTION:“Selecting for Diverse Talent: Theory and Evidence” (with Neil Natarajan)
LOCATION:Kellogg Global Hub 5101, virtual option
SEQUENCE:0
UID:b58ef396-9b20-4cf4-87de-742087ae41dc
END:VEVENT
END:VCALENDAR
