BEGIN:VCALENDAR
VERSION:2.0
PRODID:-//kellogg.northwestern.edu///Outlook MIMEDIR//EN
X-WR-CALNAME: All Faculty Events
BEGIN:VEVENT
DTSTAMP:20260421T065439Z
DTSTART:20241210T180500Z
DTEND:20241210T190500Z
SUMMARY:Zincy Wei
X-ALT-DESC;FMTTYPE=text/html:tbd
DESCRIPTION:tbd
LOCATION:Kellogg Global Hub tba
SEQUENCE:0
UID:b3ced0e4-8cbc-4403-92a6-86b5bb187602
END:VEVENT
END:VCALENDAR
