BEGIN:VCALENDAR
VERSION:2.0
PRODID:-//kellogg.northwestern.edu///Outlook MIMEDIR//EN
X-WR-CALNAME: All Faculty Events
BEGIN:VEVENT
DTSTAMP:20260422T082005Z
DTSTART:20240306T193000Z
DTEND:20240306T210000Z
SUMMARY:Anastasia Zakolyukina
X-ALT-DESC;FMTTYPE=text/html:How important is corporate governance? Evidence from machine learning
DESCRIPTION:How important is corporate governance? Evidence from machine learning
LOCATION:Kellogg Global Hub KGH 5101
SEQUENCE:0
UID:b3a85534-56f6-44f2-98c6-70d2c9bd3a5a
END:VEVENT
END:VCALENDAR
