BEGIN:VCALENDAR
VERSION:2.0
PRODID:-//kellogg.northwestern.edu///Outlook MIMEDIR//EN
X-WR-CALNAME: All Faculty Events
BEGIN:VEVENT
DTSTAMP:20260421T155515Z
DTSTART:20180606T203000Z
DTEND:20180606T220000Z
SUMMARY:Archishman Chakraborty
X-ALT-DESC;FMTTYPE=text/html:"Expert Captured Democracies"
DESCRIPTION:"Expert Captured Democracies"
LOCATION:Kellogg Global Hub 5101
SEQUENCE:0
UID:b2d318ae-4481-456f-8577-a95ec7028cf5
END:VEVENT
END:VCALENDAR
