BEGIN:VCALENDAR
VERSION:2.0
PRODID:-//kellogg.northwestern.edu///Outlook MIMEDIR//EN
X-WR-CALNAME: All Faculty Events
BEGIN:VEVENT
DTSTAMP:20260424T103107Z
DTSTART:20200422T184500Z
DTEND:20200422T200000Z
SUMMARY:David Myatt
X-ALT-DESC;FMTTYPE=text/html:
DESCRIPTION:
LOCATION:Kellogg Global Hub 4101
SEQUENCE:0
UID:af0e276b-4a27-4f87-8d8d-deed56feb221
END:VEVENT
END:VCALENDAR
