BEGIN:VCALENDAR
VERSION:2.0
PRODID:-//kellogg.northwestern.edu///Outlook MIMEDIR//EN
X-WR-CALNAME: All Faculty Events
BEGIN:VEVENT
DTSTAMP:20260424T015105Z
DTSTART:20230213T163000Z
DTEND:20230213T180000Z
SUMMARY:Aditya Chaudry
X-ALT-DESC;FMTTYPE=text/html:Do Subjective Growth Expectations Matter for Asset Prices?
DESCRIPTION:Do Subjective Growth Expectations Matter for Asset Prices?
LOCATION:Kellogg Global Hub KGH 4101
SEQUENCE:0
UID:ac7d9c12-4919-4e52-90c2-4ecf62d666a2
END:VEVENT
END:VCALENDAR
