BEGIN:VCALENDAR
VERSION:2.0
PRODID:-//kellogg.northwestern.edu///Outlook MIMEDIR//EN
X-WR-CALNAME: All Faculty Events
BEGIN:VEVENT
DTSTAMP:20260421T064510Z
DTSTART:20260421T183000Z
DTEND:20260421T194500Z
SUMMARY:Zoë Hitzig
X-ALT-DESC;FMTTYPE=text/html:How People Use ChatGPT
DESCRIPTION:How People Use ChatGPT
LOCATION:KGH 5101 or Zoom
SEQUENCE:0
UID:ac3fa536-1eb9-4e5e-a713-807a410308a0
END:VEVENT
END:VCALENDAR
