BEGIN:VCALENDAR
VERSION:2.0
PRODID:-//kellogg.northwestern.edu///Outlook MIMEDIR//EN
X-WR-CALNAME: All Faculty Events
BEGIN:VEVENT
DTSTAMP:20260424T073455Z
DTSTART:20250512T184500Z
DTEND:20250512T200000Z
SUMMARY:Nicholas Bloom
X-ALT-DESC;FMTTYPE=text/html:Kellogg Labor Seminar Series: Rationalizing Firms Forecasts
DESCRIPTION:Kellogg Labor Seminar Series: Rationalizing Firms Forecasts
LOCATION:Kellogg Global Hub 5101
SEQUENCE:0
UID:ac3d89f8-68ba-4215-b7ea-68c5fffd8753
END:VEVENT
END:VCALENDAR
