BEGIN:VCALENDAR
VERSION:2.0
PRODID:-//kellogg.northwestern.edu///Outlook MIMEDIR//EN
X-WR-CALNAME: All Faculty Events
BEGIN:VEVENT
DTSTAMP:20260421T231940Z
DTSTART:20200113T193000Z
DTEND:20200113T210000Z
SUMMARY:Ryan Hill
X-ALT-DESC;FMTTYPE=text/html:"Scooped! Estimating Rewards for Priority in Science"
DESCRIPTION:"Scooped! Estimating Rewards for Priority in Science"
LOCATION:Kellogg Global Hub 4101
SEQUENCE:0
UID:ac23806b-61bf-4293-af43-d94e17108707
END:VEVENT
END:VCALENDAR
