BEGIN:VCALENDAR
VERSION:2.0
PRODID:-//kellogg.northwestern.edu///Outlook MIMEDIR//EN
X-WR-CALNAME: All Faculty Events
BEGIN:VEVENT
DTSTAMP:20260423T031501Z
DTSTART:20231024T170500Z
DTEND:20231024T183500Z
SUMMARY:Ritwika Sen
X-ALT-DESC;FMTTYPE=text/html:"Workplace Supervision and Learning: Evidence from a Field Experiment"
DESCRIPTION:"Workplace Supervision and Learning: Evidence from a Field Experiment"
LOCATION:Kellogg Global Hub KGH 4302, virtual option
SEQUENCE:0
UID:abb8bb23-57cf-4dd2-a05a-c263473354f9
END:VEVENT
END:VCALENDAR
