BEGIN:VCALENDAR
VERSION:2.0
PRODID:-//kellogg.northwestern.edu///Outlook MIMEDIR//EN
X-WR-CALNAME: All Faculty Events
BEGIN:VEVENT
DTSTAMP:20260421T160254Z
DTSTART:20180511T171500Z
DTEND:20180511T183000Z
SUMMARY:Oleg Bondarenko
X-ALT-DESC;FMTTYPE=text/html:Option Implied Dependence
DESCRIPTION:Option Implied Dependence
LOCATION:Kellogg Global Hub 4302
SEQUENCE:0
UID:abaa8a25-6e6d-4aeb-9926-d1e15ee06c25
END:VEVENT
END:VCALENDAR
