BEGIN:VCALENDAR
VERSION:2.0
PRODID:-//kellogg.northwestern.edu///Outlook MIMEDIR//EN
X-WR-CALNAME: All Faculty Events
BEGIN:VEVENT
DTSTAMP:20260423T122931Z
DTSTART:20181030T170500Z
DTEND:20181030T180500Z
SUMMARY:Benjamin Friedrich
X-ALT-DESC;FMTTYPE=text/html:"Earnings Dynamics and Firm-Level Shocks"
DESCRIPTION:"Earnings Dynamics and Firm-Level Shocks"
LOCATION:Kellogg Global Hub 4302
SEQUENCE:0
UID:aa6a7030-d1ff-4dd7-bcb3-303459d3270c
END:VEVENT
END:VCALENDAR
