BEGIN:VCALENDAR
VERSION:2.0
PRODID:-//kellogg.northwestern.edu///Outlook MIMEDIR//EN
X-WR-CALNAME: All Faculty Events
BEGIN:VEVENT
DTSTAMP:20260421T194138Z
DTSTART:20191030T184500Z
DTEND:20191030T200000Z
SUMMARY:Koichiro Ito
X-ALT-DESC;FMTTYPE=text/html:"Selection on Welfare Gains and Policy Design: Experimental Evidence from Electricity Plan Choice"
DESCRIPTION:"Selection on Welfare Gains and Policy Design: Experimental Evidence from Electricity Plan Choice"
LOCATION:Kellogg Global Hub 4101
SEQUENCE:0
UID:a95df35f-55e9-4538-b0cf-4ceccda7215f
END:VEVENT
END:VCALENDAR
