BEGIN:VCALENDAR
VERSION:2.0
PRODID:-//kellogg.northwestern.edu///Outlook MIMEDIR//EN
X-WR-CALNAME: All Faculty Events
BEGIN:VEVENT
DTSTAMP:20260424T085444Z
DTSTART:20250430T184500Z
DTEND:20250430T200000Z
SUMMARY:Matt Grennan
X-ALT-DESC;FMTTYPE=text/html:Are Hospital Acquisitions of Physician Practices Anticompetitive?
DESCRIPTION:Are Hospital Acquisitions of Physician Practices Anticompetitive?
LOCATION:Kellogg Global Hub 2130, virtual option
SEQUENCE:0
UID:a9470443-09b6-4add-b350-1fdccdd6941f
END:VEVENT
END:VCALENDAR
