BEGIN:VCALENDAR
VERSION:2.0
PRODID:-//kellogg.northwestern.edu///Outlook MIMEDIR//EN
X-WR-CALNAME: All Faculty Events
BEGIN:VEVENT
DTSTAMP:20260420T082831Z
DTSTART:20171011T183000Z
DTEND:20171011T200000Z
SUMMARY:Johannes Horner
X-ALT-DESC;FMTTYPE=text/html:Motivational Ratings
DESCRIPTION:Motivational Ratings
LOCATION:Kellogg Global Hub 4302
SEQUENCE:0
UID:a8f538f8-922c-448b-ab61-04aba2a1ec6d
END:VEVENT
END:VCALENDAR
