BEGIN:VCALENDAR
VERSION:2.0
PRODID:-//kellogg.northwestern.edu///Outlook MIMEDIR//EN
X-WR-CALNAME: All Faculty Events
BEGIN:VEVENT
DTSTAMP:20260421T134016Z
DTSTART:20240404T171500Z
DTEND:20240404T181500Z
SUMMARY:Theory Brown Bag - Ehud Kalai
X-ALT-DESC;FMTTYPE=text/html:"Contagious Strategies Implement Confession in Prisoner’s Dilemma Games"
DESCRIPTION:"Contagious Strategies Implement Confession in Prisoner’s Dilemma Games"
LOCATION:Location TBD 4101
SEQUENCE:0
UID:a8149d01-61fc-42a3-8584-5f97ce66b80c
END:VEVENT
END:VCALENDAR
