BEGIN:VCALENDAR
VERSION:2.0
PRODID:-//kellogg.northwestern.edu///Outlook MIMEDIR//EN
X-WR-CALNAME: All Faculty Events
BEGIN:VEVENT
DTSTAMP:20260425T223915Z
DTSTART:20210202T180500Z
DTEND:20210202T190500Z
SUMMARY:Quoc-Anh Do
X-ALT-DESC;FMTTYPE=text/html:"Friendship Networks and Political Opinions: A Natural Experiment among Future French Politicians"
DESCRIPTION:"Friendship Networks and Political Opinions: A Natural Experiment among Future French Politicians"
LOCATION:Virtual Event
SEQUENCE:0
UID:a6a17ae7-8244-4374-928f-7b805648c207
END:VEVENT
END:VCALENDAR
