BEGIN:VCALENDAR
VERSION:2.0
PRODID:-//kellogg.northwestern.edu///Outlook MIMEDIR//EN
X-WR-CALNAME: All Faculty Events
BEGIN:VEVENT
DTSTAMP:20260422T015328Z
DTSTART:20181022T170000Z
DTEND:20181022T183000Z
SUMMARY:Tristan L. Botelho
X-ALT-DESC;FMTTYPE=text/html:"From Audience to Evaluator: The Effect of Social Influence in Opt-in Evaluation Processes"
DESCRIPTION:"From Audience to Evaluator: The Effect of Social Influence in Opt-in Evaluation Processes"
LOCATION:Kellogg Global Hub 5101
SEQUENCE:0
UID:a5c06297-d2c8-49ed-9833-7803b688fb4a
END:VEVENT
END:VCALENDAR
