BEGIN:VCALENDAR
VERSION:2.0
PRODID:-//kellogg.northwestern.edu///Outlook MIMEDIR//EN
X-WR-CALNAME: All Faculty Events
BEGIN:VEVENT
DTSTAMP:20260421T114502Z
DTSTART:20240520T183000Z
DTEND:20240520T200000Z
SUMMARY:Arin Dube
X-ALT-DESC;FMTTYPE=text/html:The Unexpected Compression: Competition at Work in the Low Wage Labor Market
DESCRIPTION:The Unexpected Compression: Competition at Work in the Low Wage Labor Market
LOCATION:Kellogg Global Hub KGH 5101
SEQUENCE:0
UID:a53e324d-9761-419c-b338-bc3df0d764c3
END:VEVENT
END:VCALENDAR
