BEGIN:VCALENDAR
VERSION:2.0
PRODID:-//kellogg.northwestern.edu///Outlook MIMEDIR//EN
X-WR-CALNAME: All Faculty Events
BEGIN:VEVENT
DTSTAMP:20260421T175244Z
DTSTART:20180425T150000Z
DTEND:20180425T163000Z
SUMMARY:Rodolphe Durand
X-ALT-DESC;FMTTYPE=text/html:"The sound of finance: The impact of categorization and linguistic congruence on IPO underpricing"
DESCRIPTION:"The sound of finance: The impact of categorization and linguistic congruence on IPO underpricing"
LOCATION:Kellogg Global Hub 5101
SEQUENCE:0
UID:a492c435-ca9e-45e8-b605-69cf575fc3e7
END:VEVENT
END:VCALENDAR
