BEGIN:VCALENDAR
VERSION:2.0
PRODID:-//kellogg.northwestern.edu///Outlook MIMEDIR//EN
X-WR-CALNAME: All Faculty Events
BEGIN:VEVENT
DTSTAMP:20260421T194139Z
DTSTART:20170406T171500Z
DTEND:20170406T181500Z
SUMMARY:Modibo Camara
X-ALT-DESC;FMTTYPE=text/html:"Confidence-Driven Contagion in Financial Networks"
DESCRIPTION:"Confidence-Driven Contagion in Financial Networks"
LOCATION:Kellogg Global Hub 4302
SEQUENCE:0
UID:a45443b2-8bfc-43bf-827e-daa7669068f2
END:VEVENT
END:VCALENDAR
