BEGIN:VCALENDAR
VERSION:2.0
PRODID:-//kellogg.northwestern.edu///Outlook MIMEDIR//EN
X-WR-CALNAME: All Faculty Events
BEGIN:VEVENT
DTSTAMP:20260423T135510Z
DTSTART:20250507T183000Z
DTEND:20250507T200000Z
SUMMARY:Davide Cianciaruso
X-ALT-DESC;FMTTYPE=text/html:Topic Forthcoming
DESCRIPTION:Topic Forthcoming
LOCATION:Kellogg Global Hub TBA
SEQUENCE:0
UID:a3bce1b8-03ef-4cbb-92d0-bb62d82831b1
END:VEVENT
END:VCALENDAR
