BEGIN:VCALENDAR
VERSION:2.0
PRODID:-//kellogg.northwestern.edu///Outlook MIMEDIR//EN
X-WR-CALNAME: All Faculty Events
BEGIN:VEVENT
DTSTAMP:20260423T141607Z
DTSTART:20240402T170000Z
DTEND:20240402T180000Z
SUMMARY:Binglu Wang
X-ALT-DESC;FMTTYPE=text/html:TBA
DESCRIPTION:TBA
LOCATION:Kellogg Global Hub TBA/Zoom
SEQUENCE:0
UID:a2d29013-c74a-4e5f-9f32-fe93f71c4004
END:VEVENT
END:VCALENDAR
