BEGIN:VCALENDAR
VERSION:2.0
PRODID:-//kellogg.northwestern.edu///Outlook MIMEDIR//EN
X-WR-CALNAME: All Faculty Events
BEGIN:VEVENT
DTSTAMP:20260423T220327Z
DTSTART:20240501T160000Z
DTEND:20240501T171500Z
SUMMARY:Nir Jaimovich
X-ALT-DESC;FMTTYPE=text/html: TBA
DESCRIPTION: TBA
LOCATION:Kellogg Global Hub KGH 4101
SEQUENCE:0
UID:a0a0d622-7e8d-4fef-8d8b-f53311a8a6b8
END:VEVENT
END:VCALENDAR
