BEGIN:VCALENDAR
VERSION:2.0
PRODID:-//kellogg.northwestern.edu///Outlook MIMEDIR//EN
X-WR-CALNAME: All Faculty Events
BEGIN:VEVENT
DTSTAMP:20260419T170158Z
DTSTART:20180510T171500Z
DTEND:20180510T181500Z
SUMMARY:Marco Sammon
X-ALT-DESC;FMTTYPE=text/html:"Passive Ownership and the Stock Market"
DESCRIPTION:"Passive Ownership and the Stock Market"
LOCATION:Kellogg Global Hub Room 4302
SEQUENCE:0
UID:a06bf5a7-0821-4d4b-bb06-b21b6aa685ac
END:VEVENT
END:VCALENDAR
