BEGIN:VCALENDAR
VERSION:2.0
PRODID:-//kellogg.northwestern.edu///Outlook MIMEDIR//EN
X-WR-CALNAME: All Faculty Events
BEGIN:VEVENT
DTSTAMP:20260421T100213Z
DTSTART:20180314T183000Z
DTEND:20180314T200000Z
SUMMARY:João Ramos
X-ALT-DESC;FMTTYPE=text/html:
DESCRIPTION:
LOCATION:Kellogg Global Hub 5101
SEQUENCE:0
UID:9fd8f256-2d81-4ecd-9f9b-937361c96c34
END:VEVENT
END:VCALENDAR
