BEGIN:VCALENDAR
VERSION:2.0
PRODID:-//kellogg.northwestern.edu///Outlook MIMEDIR//EN
X-WR-CALNAME: All Faculty Events
BEGIN:VEVENT
DTSTAMP:20260421T081932Z
DTSTART:20250109T213000Z
DTEND:20250109T230000Z
SUMMARY:Rebekah Dix
X-ALT-DESC;FMTTYPE=text/html:"Combining Complements: Theory and Evidence from Cancer Treatment Innovation"
DESCRIPTION:"Combining Complements: Theory and Evidence from Cancer Treatment Innovation"
LOCATION:Kellogg Global Hub 1410, virtual option
SEQUENCE:0
UID:9f8a9678-4f8b-4f20-9895-6f42689f10c7
END:VEVENT
END:VCALENDAR
