BEGIN:VCALENDAR
VERSION:2.0
PRODID:-//kellogg.northwestern.edu///Outlook MIMEDIR//EN
X-WR-CALNAME: All Faculty Events
BEGIN:VEVENT
DTSTAMP:20260422T030735Z
DTSTART:20250122T181500Z
DTEND:20250122T191500Z
SUMMARY:Operations Seminar - Negin Golrezaei
X-ALT-DESC;FMTTYPE=text/html:Learning to Bid in Multi-Unit Auctions: Applications in Emissions Trading Systems and Beyond
DESCRIPTION:Learning to Bid in Multi-Unit Auctions: Applications in Emissions Trading Systems and Beyond
LOCATION:Kellogg Global Hub 2120
SEQUENCE:0
UID:9f6b6d10-116c-4886-af42-4f001e40d6fb
END:VEVENT
END:VCALENDAR
