BEGIN:VCALENDAR
VERSION:2.0
PRODID:-//kellogg.northwestern.edu///Outlook MIMEDIR//EN
X-WR-CALNAME: All Faculty Events
BEGIN:VEVENT
DTSTAMP:20260423T065513Z
DTSTART:20171005T171500Z
DTEND:20171005T181500Z
SUMMARY:Georgy Egorov
X-ALT-DESC;FMTTYPE=text/html:"Strategic Communication with Minimal Verification"
DESCRIPTION:"Strategic Communication with Minimal Verification"
LOCATION:Kellogg Global Hub 5101
SEQUENCE:0
UID:9e7f9865-14ef-4879-bdd5-4f778fd2a072
END:VEVENT
END:VCALENDAR
