BEGIN:VCALENDAR
VERSION:2.0
PRODID:-//kellogg.northwestern.edu///Outlook MIMEDIR//EN
X-WR-CALNAME: All Faculty Events
BEGIN:VEVENT
DTSTAMP:20260421T134943Z
DTSTART:20231030T183000Z
DTEND:20231030T200000Z
SUMMARY:Simon Jäger
X-ALT-DESC;FMTTYPE=text/html:Worker Representatives 
DESCRIPTION:Worker Representatives 
LOCATION:Kellogg Global Hub KGH 4101
SEQUENCE:0
UID:9debd603-8882-4ec8-8767-689759462f14
END:VEVENT
END:VCALENDAR
