BEGIN:VCALENDAR
VERSION:2.0
PRODID:-//kellogg.northwestern.edu///Outlook MIMEDIR//EN
X-WR-CALNAME: All Faculty Events
BEGIN:VEVENT
DTSTAMP:20260421T101349Z
DTSTART:20210223T180500Z
DTEND:20210223T190500Z
SUMMARY:Theo Durandard
X-ALT-DESC;FMTTYPE=text/html:"Delegating Leadership, Learning, and Promotions"
DESCRIPTION:"Delegating Leadership, Learning, and Promotions"
LOCATION:Virtual Event
SEQUENCE:0
UID:9d75a45a-c968-455e-aa53-a02953ff3934
END:VEVENT
END:VCALENDAR
